BEGIN:VCALENDAR
VERSION:2.0
PRODID:icalendar-ruby
CALSCALE:GREGORIAN
METHOD:PUBLISH
BEGIN:VEVENT
DTSTAMP:20260420T080001Z
UID:16-686750@cwcmv.org
DTSTART:20261010T140000Z
DTEND:20261010T160000Z
CLASS:PUBLIC
CREATED:20260420T002239
DESCRIPTION:Every Saturday\, our guys get together for community and prayer
 . This group is currently in the Book of Zechariah.
LAST-MODIFIED:20260420T002239
LOCATION:Café
SUMMARY:Men's Bible Study
URL;VALUE=URI:https://www.cwcmv.org/events/mens-bible-study/2026-10-10
ATTACH;FILENAME=FqmAC.jpg;FMTTYPE=image/jpeg:https://dq5pwpg1q8ru0.cloudfro
 nt.net/2024/12/06/22/54/32/77e4ba2a-dbb2-43d1-ac86-c3a3b9865c86/FqmAC.jpg
END:VEVENT
END:VCALENDAR
