BEGIN:VCALENDAR
VERSION:2.0
PRODID:icalendar-ruby
CALSCALE:GREGORIAN
METHOD:PUBLISH
BEGIN:VEVENT
DTSTAMP:20260420T033602Z
UID:16-685631@cwcmv.org
DTSTART:20260919T140000Z
DTEND:20260919T160000Z
CLASS:PUBLIC
CREATED:20260419T170750
DESCRIPTION:Every Saturday\, our guys get together for community and prayer
 . This group is currently in the Book of Zechariah.
LAST-MODIFIED:20260419T170750
LOCATION:Café
SUMMARY:Men's Bible Study
URL;VALUE=URI:https://www.cwcmv.org/events/mens-bible-study/2026-09-19
ATTACH;FILENAME=FqmAC.jpg;FMTTYPE=image/jpeg:https://dq5pwpg1q8ru0.cloudfro
 nt.net/2024/12/06/22/54/32/77e4ba2a-dbb2-43d1-ac86-c3a3b9865c86/FqmAC.jpg
END:VEVENT
END:VCALENDAR
