BEGIN:VCALENDAR
VERSION:2.0
PRODID:icalendar-ruby
CALSCALE:GREGORIAN
METHOD:PUBLISH
BEGIN:VEVENT
DTSTAMP:20260420T015639Z
UID:17-685727@cwcmv.org
DTSTART:20260909T020000Z
DTEND:20260909T033000Z
CLASS:PUBLIC
CREATED:20260419T170750
DESCRIPTION:This group is currently studying the Book of Daniel.
LAST-MODIFIED:20260419T170750
LOCATION:Room 4
SUMMARY:Men's Bible Study
URL;VALUE=URI:https://www.cwcmv.org/events/mens-bible-study--17/2026-09-08
ATTACH;FILENAME=crosswinds.church.moreno.valley_mens-ministry-tuesday-bible
 -study-2022-1.png;FMTTYPE=image/png:https://dq5pwpg1q8ru0.cloudfront.net/2
 024/12/06/22/53/19/5df97501-1f6c-4ac4-970e-504f56c5cdd6/crosswinds.church.
 moreno.valley_mens-ministry-tuesday-bible-study-2022-1.png
END:VEVENT
END:VCALENDAR
